BEGIN:VCALENDAR
PRODID:-//eluceo/ical//2.0/EN
VERSION:2.0
CALSCALE:GREGORIAN
BEGIN:VEVENT
UID:d7da16db239068156062367b7402cb69
DTSTAMP:20260425T102725Z
SUMMARY:Shomrei Teva Creekside Restoration
DESCRIPTION:Jewish Federation of Greater Portland\nYoung Families\nhttps://
 jewishportland.org/young-families/shomrei-teva-creekside-restoration-22613
 6\n\nJoin us as we remove non-native\, invasive plants in and around the c
 reek.
DTSTART;TZID=America/Los_Angeles:20170416T094500
DTEND;TZID=America/Los_Angeles:20170416T114500
END:VEVENT
END:VCALENDAR
