BEGIN:VCALENDAR
PRODID:-//eluceo/ical//2.0/EN
VERSION:2.0
CALSCALE:GREGORIAN
BEGIN:VEVENT
UID:6fad1b356d768aeab7d0519598525c72
DTSTAMP:20260421T181735Z
SUMMARY:Sukkot Services Day 2 at Shaarie Torah
DESCRIPTION:Jewish Federation of Greater Portland\nYoung Families\nhttps://
 jewishportland.org/young-families/sukkot-services-day-2-at-shaarie-torah-4
 19493\n\nSukkot Services in our Sukkah \nDay 1 and 2\nJoin in person or o
 n zoom. Services will also be live-streamed \nJoin on zoom: https://us02
 web.zoom.us/j/89231057612?pwd=UGZ0eHliYUFOYzMyL2s1Rlk0MXMwZz09\n\n \n\nIf
  you are not a member\, we welcome you and invite you to join us in creati
 ng a spiritual home that enriches our whole community. We encourage you to
  make a meaningful contribution to Shaarie Torah to help us fulfill our mi
 ssion of being a spiritual home that encourages growth in all s...
DTSTART;TZID=America/Los_Angeles:20221011T091500
DTEND;TZID=America/Los_Angeles:20221011T121500
END:VEVENT
END:VCALENDAR
