BEGIN:VCALENDAR
PRODID:-//eluceo/ical//2.0/EN
VERSION:2.0
CALSCALE:GREGORIAN
BEGIN:VEVENT
UID:ca3cb23db40cb41f3a1355c84eefd9f8
DTSTAMP:20260419T170638Z
SUMMARY:Sundaes on Sundays
DESCRIPTION:Jewish Federation of Greater Portland\nYoung Families\nhttps://
 jewishportland.org/young-families/sundaes-on-sundays-76547\n\nEnjoy ice cr
 eam and play on the pool float!
DTSTART;TZID=America/Los_Angeles:20140810T130000
DTEND;TZID=America/Los_Angeles:20140810T150000
END:VEVENT
END:VCALENDAR
