BEGIN:VCALENDAR
PRODID:-//eluceo/ical//2.0/EN
VERSION:2.0
CALSCALE:GREGORIAN
BEGIN:VEVENT
UID:841b3d801f8ddf55943282d8a6d56a0c
DTSTAMP:20260419T142335Z
SUMMARY:Superbowl Sunday at EJC!
DESCRIPTION:Jewish Federation of Greater Portland\nYoung Families\nhttps://
 jewishportland.org/young-families/superbowl-sunday-at-ejc-1704843838-45734
 9\n\nEJC Superbowl Party!
DTSTART;TZID=America/Los_Angeles:20240211T150000
DTEND;TZID=America/Los_Angeles:20240211T200000
END:VEVENT
END:VCALENDAR
