BEGIN:VCALENDAR
PRODID:-//eluceo/ical//2.0/EN
VERSION:2.0
CALSCALE:GREGORIAN
BEGIN:VEVENT
UID:f6d97469f37a40ba4d01a42a932579ef
DTSTAMP:20260421T004935Z
SUMMARY:Temple Beth Tikvah Yom Kippur
DESCRIPTION:Jewish Federation of Greater Portland\nYoung Families\nhttps://
 jewishportland.org/young-families/temple-beth-tikvah-yom-kippur-86523\n\nJ
 oin Temple Beth Tikvah\, a member of the Union for Reform Judaism\, for Yo
 m Kippur Services with Rabbi Johanna Hershenson and Cantor Adelle Nicholso
 n.
DTSTART;TZID=America/Los_Angeles:20141004T100000
DTEND;TZID=America/Los_Angeles:20141004T203000
END:VEVENT
END:VCALENDAR
