BEGIN:VCALENDAR
PRODID:-//eluceo/ical//2.0/EN
VERSION:2.0
CALSCALE:GREGORIAN
BEGIN:VEVENT
UID:a5dbf796b5db436987b17cd918493707
DTSTAMP:20260425T210939Z
SUMMARY:The Jennie Open House
DESCRIPTION:Jewish Federation of Greater Portland\nYoung Families\nhttps://
 jewishportland.org/young-families/the-jennie-open-house-1704324954-456871\
 n\nThe Jennifer Barnum Luria Early Childhood Center on Congregation Beth I
 srael’s historic campus (located 428 NW 20th) will open in a few short w
 eeks\, providing full-time\, reform Jewish education for children aged six
  weeks to prekindergarten. The Jennie invites you  to visit our beautiful\
 , brand-new school\, meet our staff (and maybe let your children give the 
 classroom toys a test run)\, and learn more about our art- and play- based
  program at one of two upcoming open houses: drop in and...
DTSTART;TZID=America/Los_Angeles:20240210T140000
DTEND;TZID=America/Los_Angeles:20240210T170000
END:VEVENT
END:VCALENDAR
