BEGIN:VCALENDAR
PRODID:-//eluceo/ical//2.0/EN
VERSION:2.0
CALSCALE:GREGORIAN
BEGIN:VEVENT
UID:594fa0eee53badcda7fa52d049849814
DTSTAMP:20260422T061744Z
SUMMARY:The Mitzvah Project--Young Families
DESCRIPTION:Jewish Federation of Greater Portland\nYoung Families\nhttps://
 jewishportland.org/young-families/the-mitzvah-project-1715110401-465693\n\
 nJoin us Sunday\, June 23rd for the Mitzvah Project/Mitzvah Makers. Mitzva
 h Makers (Young Families with children ages 4-10) are invited to join us f
 rom 9am - 11am at Tryon Creek for a morning of volunteer\, hands-on enviro
 nmental service assisting Friends of Tryon Creek and viewing our day of se
 rvice through a Jewish lens. \n\nMore details\, registration page and info
 rmation coming soon. With any questions\, please reach out to Laura Jeser\
 , lauraj@jewishportland.org.
DTSTART;TZID=America/Los_Angeles:20240623T090000
DTEND;TZID=America/Los_Angeles:20240623T110000
END:VEVENT
END:VCALENDAR
