BEGIN:VCALENDAR
PRODID:-//eluceo/ical//2.0/EN
VERSION:2.0
CALSCALE:GREGORIAN
BEGIN:VEVENT
UID:8fd4d632812877f4a81e209e4cf586ad
DTSTAMP:20260423T015542Z
SUMMARY:The Struggle for Democracy in Israel and the US: A Joint Path Forwa
 rd
DESCRIPTION:Jewish Federation of Greater Portland\nYoung Families\nhttps://
 jewishportland.org/young-families/the-struggle-for-democracy-in-israel-and
 -the-us-a-joint-path-forward-1755216141-498313\n\nNadav Tamir\, Executive 
 Director of J Street Israel\, will share his analysis and insights on rece
 nt events\, the state of democracy\, the US-Israel alliance\, and the poli
 tical landscapes in both countries as we head toward the 2026 Knesset and 
 Congress elections.\n\nNadav Tamir has served in multiple roles in the Isr
 aeli Foreign Service. They include Political Officer at the Israeli Embass
 y in Washington\, D. C.\, Israeli Consul General to New England\, and serv
 ing in the Policy Planning Unit of th...
DTSTART;TZID=America/Los_Angeles:20250911T190000
DTEND;TZID=America/Los_Angeles:20250911T203000
END:VEVENT
END:VCALENDAR
