BEGIN:VCALENDAR
PRODID:-//eluceo/ical//2.0/EN
VERSION:2.0
CALSCALE:GREGORIAN
BEGIN:VEVENT
UID:83f7a083ad8e0ebc2da727933e4af1bd
DTSTAMP:20260420T220031Z
SUMMARY:Tot Shabbat
DESCRIPTION:Jewish Federation of Greater Portland\nYoung Families\nhttps://
 jewishportland.org/young-families/tot-shabbat-3-16-19-291901\n\nTot Shabba
 t\n\nYoung children (0-5) and their parents celebrate Shabbat with singing
 \, movement\, blessings\, and storytelling. We will touch on the main high
 lights of the Shabbat service: wonder\, fun\, song\, listening to the worl
 d\, dancing\, and Torah. Afterward we will enjoy an informal oneg nosh and
  the chance to play and schmooze.\n\nPlease RSVP here.
DTSTART;TZID=America/Los_Angeles:20190316T103000
DTEND;TZID=America/Los_Angeles:20190316T113000
END:VEVENT
END:VCALENDAR
