BEGIN:VCALENDAR
PRODID:-//eluceo/ical//2.0/EN
VERSION:2.0
CALSCALE:GREGORIAN
BEGIN:VEVENT
UID:eb190faeaf1ef37060187637d2ca54fc
DTSTAMP:20260426T020857Z
SUMMARY:Tot Shabbat at Neveh Shalom
DESCRIPTION:Jewish Federation of Greater Portland\nYoung Families\nhttps://
 jewishportland.org/young-families/tot-shabbat-at-neveh-shalom-85772\n\nExp
 erience the joy of Shabbat! A fun and engaging service for families with b
 abies\, toddlers and children up to age 5. Join our skilled early childhoo
 d educators: Levia\, Amy and their good friend Shabbos Mouse for Neveh Sha
 lom’s\nliveliest Shabbat service.
DTSTART;TZID=America/Los_Angeles:20140816T101500
DTEND;TZID=America/Los_Angeles:20140816T123000
END:VEVENT
END:VCALENDAR
