BEGIN:VCALENDAR
PRODID:-//eluceo/ical//2.0/EN
VERSION:2.0
CALSCALE:GREGORIAN
BEGIN:VEVENT
UID:29a5e1d9109b47e1d0d254d054310669
DTSTAMP:20260425T204404Z
SUMMARY:Tot Shabbat with Mini Mensches at CBI
DESCRIPTION:Jewish Federation of Greater Portland\nYoung Families\nhttps://
 jewishportland.org/young-families/tot-shabbat-with-mini-mensches-at-cbi\n\
 nJoin Mini Mensches for Tot Shabbat! Dance and sing\, listen to a story fr
 om the clergy and enjoy a lovely morning together. After the service\, we 
 will share an Oneg and work on a craft project. This is a wonderful time t
 o meet new families with young children and connect with friends!
DTSTART;TZID=America/Los_Angeles:20171007T090000
DTEND;TZID=America/Los_Angeles:20171007T110000
END:VEVENT
END:VCALENDAR
