BEGIN:VCALENDAR
PRODID:-//eluceo/ical//2.0/EN
VERSION:2.0
CALSCALE:GREGORIAN
BEGIN:VEVENT
UID:ad812223c6fea125aeb061ec5cc973bb
DTSTAMP:20260421T201004Z
SUMMARY:Vancouver Community Chanukah Celebration
DESCRIPTION:Jewish Federation of Greater Portland\nYoung Families\nhttps://
 jewishportland.org/young-families/vancouver-community-chanukah-celebration
 -335142\n\nVancouver's Annual Community Chanukah Celebration\, a free and 
 public event.\n\nLive Music! Donuts! Hot Cocoa! Entertainment!\n\nCome see
  the new 18 foot tall Menorah\, design insprired by the Waterfront Park Pi
 er!\n\n 
DTSTART;TZID=America/Los_Angeles:20191222T163000
DTEND;TZID=America/Los_Angeles:20191222T180000
END:VEVENT
END:VCALENDAR
