BEGIN:VCALENDAR
PRODID:-//eluceo/ical//2.0/EN
VERSION:2.0
CALSCALE:GREGORIAN
BEGIN:VEVENT
UID:cb67864ac618cb75a55ac55dc43a971c
DTSTAMP:20260420T171402Z
SUMMARY:Where Do I Go From Here:  A Vision Board Workshop with Rachel Hall
DESCRIPTION:Jewish Federation of Greater Portland\nYoung Families\nhttps://
 jewishportland.org/young-families/where-do-i-go-from-here-a-vision-board-w
 orkshop-250450\n\nWhere Do I Go From Here ?\nA Vision Board Workshop Focus
 ing on Next Steps\, Transitions and Soft Goal Setting\n\nWhat do I want to
  do next? Where am I going? How will I get there? What resources do I need
 ? Who can help me? These are all questions that we often wonder about when
  we find ourselves in a place of stagnation. Stagnation often occurs when 
 we no longer find meaning in our jobs\, relationships\, or living situatio
 ns. Help address the fear you might experience when contemplating change. 
 ...
DTSTART;TZID=America/Los_Angeles:20180121T103000
DTEND;TZID=America/Los_Angeles:20180121T120000
END:VEVENT
END:VCALENDAR
