BEGIN:VCALENDAR
PRODID:-//eluceo/ical//2.0/EN
VERSION:2.0
CALSCALE:GREGORIAN
BEGIN:VEVENT
UID:ca479d108c8ced5ede92fa963f52bdfd
DTSTAMP:20260422T101226Z
SUMMARY:Family Film "Wreck it Ralph"
DESCRIPTION:Jewish Federation of Greater Portland\nYoung Families\nhttps://
 jewishportland.org/young-families/wreck-it-ralph-76532\n\nFree Family Movi
 e day at the J featuring Wreck it Ralph!
DTSTART;TZID=America/Los_Angeles:20140803T130000
DTEND;TZID=America/Los_Angeles:20140803T150000
END:VEVENT
END:VCALENDAR
