BEGIN:VCALENDAR
PRODID:-//eluceo/ical//2.0/EN
VERSION:2.0
CALSCALE:GREGORIAN
BEGIN:VEVENT
UID:86171b41cc822056c3a3b9f1675d1033
DTSTAMP:20260423T003842Z
SUMMARY:Yom Ha'atzmaut:  Israel Independence Day
DESCRIPTION:Jewish Federation of Greater Portland\nYoung Families\nhttps://
 jewishportland.org/young-families/yom-haatzmaut-133128\n\nCelebrate Israel
 's 68th year of independence!
DTSTART;TZID=America/Los_Angeles:20160511T173000
DTEND;TZID=America/Los_Angeles:20160511T203000
END:VEVENT
END:VCALENDAR
