BEGIN:VCALENDAR
PRODID:-//eluceo/ical//2.0/EN
VERSION:2.0
CALSCALE:GREGORIAN
BEGIN:VEVENT
UID:8a8e6d2861faf11c5bdccd724f1e5b10
DTSTAMP:20260424T051354Z
SUMMARY:Yom Kippur Teen Experience
DESCRIPTION:Jewish Federation of Greater Portland\nYoung Families\nhttps://
 jewishportland.org/young-families/yom-kippur-teen-experience-1755213809-49
 8309\n\nYom Kippur Teen Experience\nThursday\, October 2\n4:00 PM\nIn-Pers
 on ONLY\nShemanski Chapel\n\nAs the day winds down\, this space offers tee
 ns a chance to gather\, reflect\, and connect in a way that feels real. Th
 rough conversation\, music\, and moments of quiet\, we’ll explore what Y
 om Kippur can mean when you're tired\, hangry\, and still trying to make s
 ense of the year behind and the one ahead. At the end of this experience t
 ogether\, we will join the rest of the CBI community for...
DTSTART;TZID=America/Los_Angeles:20251002T160000
DTEND;TZID=America/Los_Angeles:20251002T170000
END:VEVENT
END:VCALENDAR
