BEGIN:VCALENDAR
PRODID:-//eluceo/ical//2.0/EN
VERSION:2.0
CALSCALE:GREGORIAN
BEGIN:VEVENT
UID:0169974f0be9c3b6b3d73c90f6e23b63
DTSTAMP:20260425T201639Z
SUMMARY:Yom Kippur Traditional Service
DESCRIPTION:Jewish Federation of Greater Portland\nYoung Families\nhttps://
 jewishportland.org/young-families/yom-kippur-traditional-service-175521239
 9-498303\n\nYom Kippur Traditional Service\nThursday\, October 2\n10:00 AM
 \nIn-Person and Online\nMain Sanctuary\n\nThe morning of Yom Kippur invite
 s us into a day of introspection\, prayer\, and hope for renewal. We gathe
 r as a community to reflect\, seek connection\, and find meaning in our sh
 ared tradition.\n\nLed by Rabbi Michael Z. Canana and Cantor Rayna Green.\
 n\nCBI is delighted to welcome guests to our High Holidays observances\; p
 lease register at...
DTSTART;TZID=America/Los_Angeles:20251002T100000
DTEND;TZID=America/Los_Angeles:20251002T120000
END:VEVENT
END:VCALENDAR
