BEGIN:VCALENDAR
PRODID:-//eluceo/ical//2.0/EN
VERSION:2.0
CALSCALE:GREGORIAN
BEGIN:VEVENT
UID:dc27decf969ffc65cf5506f2159f6dc8
DTSTAMP:20260424T234414Z
SUMMARY:Young Families Foundation Fridays
DESCRIPTION:Jewish Federation of Greater Portland\nYoung Families\nhttps://
 jewishportland.org/young-families/young-families-foundation-fridays-59699\
 n\nFree young families Shabbat experience. Open to all children 0-5 and th
 eir parents\, grandparents\, friends\, caregivers.
DTSTART;TZID=America/Los_Angeles:20140711T090000
DTEND;TZID=America/Los_Angeles:20140711T103000
END:VEVENT
END:VCALENDAR
