BEGIN:VCALENDAR
PRODID:-//eluceo/ical//2.0/EN
VERSION:2.0
CALSCALE:GREGORIAN
BEGIN:VEVENT
UID:29aca16d2e0229e02fcf452a344d3274
DTSTAMP:20260421T005003Z
SUMMARY:Young Families Sensory Passover Experience
DESCRIPTION:Jewish Federation of Greater Portland\nYoung Families\nhttps://
 jewishportland.org/young-families/young-families-sensory-passover-experien
 ce-225480\n\nJoin your Shoreshim (young family) friends at Congregation Ne
 veh Shalom for a morning of fun with a Passover Twist.
DTSTART;TZID=America/Los_Angeles:20170416T113000
DTEND;TZID=America/Los_Angeles:20170416T130000
END:VEVENT
END:VCALENDAR
