BEGIN:VCALENDAR
PRODID:-//eluceo/ical//2.0/EN
VERSION:2.0
CALSCALE:GREGORIAN
BEGIN:VEVENT
UID:38698a2fde3c2a15c53d87fad5a09a65
DTSTAMP:20260420T060438Z
SUMMARY:Young Families Shabbat Dinner
DESCRIPTION:Jewish Federation of Greater Portland\nYoung Families\nhttps://
 jewishportland.org/young-families/young-families-shabbat-dinner-kesser-282
 849\n\nYoung Families Shabbat Dinner\n\nCome together with other families 
 to share in a special Shabbat experience. \n\nWith fun Shabbat activities
  for kids\, and of course\, a kids menu\, this is a Shabbat dinner you do 
 not want to miss!\n\nAll are welcome\, RSVP required.\n\nwww.kesserisrael.
 org
DTSTART;TZID=America/Los_Angeles:20181214T170000
DTEND;TZID=America/Los_Angeles:20181214T190000
END:VEVENT
END:VCALENDAR
