BEGIN:VCALENDAR
PRODID:-//eluceo/ical//2.0/EN
VERSION:2.0
CALSCALE:GREGORIAN
BEGIN:VEVENT
UID:4a394713a8832f6b21ca577818e41f2e
DTSTAMP:20260423T095717Z
SUMMARY:Young Family Tot Shabbat (0-5 years)
DESCRIPTION:Jewish Federation of Greater Portland\nYoung Families\nhttps://
 jewishportland.org/young-families/young-family-tot-shabbat-0-5-years-1stn3
 rd-337879\n\nYoung Family Tot Shabbat (0-5 years)\, 1st and 3rd Saturdays\
 , 10:15am\, Zidell Chapel\n\nExperience the joy of Shabbat! A fun and enga
 ging service for families with kids 5 and under. Join our early childhood 
 educators: Levia\, Amy and their good friend Shabbos Mouse for our livelie
 st Shabbat service. Enjoy singing\, dancing\, storytelling and more! Stay 
 for a kiddush lunch and become a part of our young family community.
DTSTART;TZID=America/Los_Angeles:20200104T101500
DTEND;TZID=America/Los_Angeles:20200104T231500
END:VEVENT
END:VCALENDAR
