BEGIN:VCALENDAR
PRODID:-//eluceo/ical//2.0/EN
VERSION:2.0
CALSCALE:GREGORIAN
BEGIN:VEVENT
UID:64518a69efa78684b8dc07cd7d27a25f
DTSTAMP:20260420T154653Z
SUMMARY:Yummy Break Fast
DESCRIPTION:Jewish Federation of Greater Portland\nYoung Families\nhttps://
 jewishportland.org/young-families/yummy-break-fast-204073\n\nWe'll offer s
 ome refreshments following the Neilah and Maariv service.  Come listen to 
 the final blast of the shofar and get a yummy bite to eat!
DTSTART;TZID=America/Los_Angeles:20161012T191500
DTEND;TZID=America/Los_Angeles:20161012T194500
END:VEVENT
END:VCALENDAR
